BEGIN:VCALENDAR
VERSION:2.0
PRODID:-//Squarespace Inc/Squarespace 6//v6//EN
BEGIN:VEVENT
UID:5a8aa3db24a694d707fbb8d2@squarespace.com
DTSTAMP:20180322T005544Z
DTSTART:20181028T093000Z
DTEND:20181028T223000Z
SUMMARY:Tropical Journeys Great Barrier Reef Marathon
END:VEVENT
END:VCALENDAR
