BEGIN:VCALENDAR
VERSION:2.0
PRODID:-//Squarespace Inc/Squarespace 6//v6//EN
BEGIN:VEVENT
UID:5beb659303ce642fd00bacf6@squarespace.com
DTSTAMP:20181114T000357Z
DTSTART:20181215T220000Z
DTEND:20181216T030000Z
SUMMARY:Douglas Shire Carols by Candlelight
END:VEVENT
END:VCALENDAR
