BEGIN:VCALENDAR
VERSION:2.0
PRODID:-//Squarespace Inc/Squarespace 6//v6//EN
BEGIN:VEVENT
UID:5be3cc07032be4f16964d215@squarespace.com
DTSTAMP:20181108T054119Z
DTSTART:20181122T210000Z
DTEND:20181123T020000Z
SUMMARY:Christmas Late Night Shopping Event
GEO:-16.482921;145.464337
LOCATION:Macrossan St\, Port Douglas\, Qld\, 4870\, Australia
END:VEVENT
END:VCALENDAR
