BEGIN:VCALENDAR
VERSION:2.0
PRODID:-//Squarespace Inc/Squarespace 6//v6//EN
BEGIN:VEVENT
UID:5bebef9d562fa7b00ab9c4d3@squarespace.com
DTSTAMP:20181114T095223Z
DTSTART:20181205T123000Z
DTEND:20181205T143000Z
SUMMARY:Brekky with Buzz
GEO:-16.481209;145.461565
LOCATION:Port Douglas Combined Club\, Ashford Avenue\, Port Douglas\, Qld\, 
 4877
END:VEVENT
END:VCALENDAR
