BEGIN:VCALENDAR
VERSION:2.0
PRODID:-//Squarespace Inc/Squarespace 6//v6//EN
BEGIN:VEVENT
UID:5a8b502571c10b58454046ed@squarespace.com
DTSTAMP:20180219T223144Z
DTSTART:20180221T130000Z
DTEND:20180221T230000Z
SUMMARY:Cruise Ship Pacific Dawn visit
END:VEVENT
END:VCALENDAR
