BEGIN:VCALENDAR
VERSION:2.0
PRODID:-//Squarespace Inc/Squarespace 6//v6//EN
BEGIN:VEVENT
UID:5a8d1da0652deac0dfea19c4@squarespace.com
DTSTAMP:20180221T072036Z
DTSTART:20180224T210000Z
DTEND:20180225T045900Z
SUMMARY:Chinese new Year Festival Cairns
END:VEVENT
END:VCALENDAR
