BEGIN:VCALENDAR
VERSION:2.0
PRODID:-//Squarespace Inc/Squarespace 6//v6//EN
BEGIN:VEVENT
UID:5a9e0eba652dea3162b3f2e1@squarespace.com
DTSTAMP:20180306T034718Z
DTSTART:20180315T113000Z
DTEND:20180315T133000Z
SUMMARY:Eggs & Issues Business Breakfast
GEO:-16.481421;145.460909
LOCATION:Port Douglas Combined Club\, Ashford Avenue\, Port Douglas\, QLD\, 
 4877\, Australia
END:VEVENT
END:VCALENDAR
