BEGIN:VCALENDAR
VERSION:2.0
PRODID:-//Squarespace Inc/Squarespace 6//v6//EN
BEGIN:VEVENT
UID:5ab2ff24aa4a99a08afe5e56@squarespace.com
DTSTAMP:20180322T005830Z
DTSTART:20180325T003000Z
DTEND:20180325T013000Z
SUMMARY:Earth Hour 
END:VEVENT
END:VCALENDAR
