BEGIN:VCALENDAR
VERSION:2.0
PRODID:-//Squarespace Inc/Squarespace 6//v6//EN
BEGIN:VEVENT
UID:5a835e7d71c10b8c4a5c2e54@squarespace.com
DTSTAMP:20180213T215444Z
DTSTART:20180305T123000Z
DTEND:20180305T133000Z
SUMMARY:Chamber Committee Monthly Meeting
END:VEVENT
END:VCALENDAR
