BEGIN:VCALENDAR
VERSION:2.0
PRODID:-//Squarespace Inc/Squarespace 6//v6//EN
BEGIN:VEVENT
UID:5a835eab71c10b8c4a5c41fb@squarespace.com
DTSTAMP:20180306T034448Z
DTSTART:20180409T113000Z
DTEND:20180409T123000Z
SUMMARY:Chamber Committee Monthly Meeting
END:VEVENT
END:VCALENDAR
