BEGIN:VCALENDAR
VERSION:2.0
PRODID:-//Squarespace Inc/Squarespace 6//v6//EN
BEGIN:VEVENT
UID:5a8d1def53450a39afeed734@squarespace.com
DTSTAMP:20180221T072239Z
DTSTART:20180404T123000Z
DTEND:20180415T213000Z
SUMMARY:Festival 2018
END:VEVENT
END:VCALENDAR
