BEGIN:VCALENDAR
VERSION:2.0
PRODID:-//Squarespace Inc/Squarespace 6//v6//EN
BEGIN:VEVENT
UID:5a8a5cef24a694d707f33e78@squarespace.com
DTSTAMP:20180322T005524Z
DTSTART:20180525T123000Z
DTEND:20180525T133000Z
SUMMARY:Carnivale Street Parade
END:VEVENT
END:VCALENDAR
