BEGIN:VCALENDAR
VERSION:2.0
PRODID:-//Squarespace Inc/Squarespace 6//v6//EN
BEGIN:VEVENT
UID:5a820ad3e2c483464fc52cf1@squarespace.com
DTSTAMP:20180212T214633Z
DTSTART:20180528T120000Z
DTEND:20180601T210000Z
SUMMARY:Queensland Small Business Week
END:VEVENT
END:VCALENDAR
