BEGIN:VCALENDAR
VERSION:2.0
PRODID:-//Squarespace Inc/Squarespace 6//v6//EN
BEGIN:VEVENT
UID:5a8aa36b71c10b584515d84e@squarespace.com
DTSTAMP:20180322T005551Z
DTSTART:20180610T093000Z
DTEND:20180610T233000Z
SUMMARY:Cairns Airport IRONMAN Asia-Pacific Championship
END:VEVENT
END:VCALENDAR
