BEGIN:VCALENDAR
VERSION:2.0
PRODID:-//Squarespace Inc/Squarespace 6//v6//EN
BEGIN:VEVENT
UID:5a835eee652dea6c89716cb4@squarespace.com
DTSTAMP:20180213T215616Z
DTSTART:20180604T113000Z
DTEND:20180604T123000Z
SUMMARY:Chamber Committee Monthly Meeting
END:VEVENT
END:VCALENDAR
