BEGIN:VCALENDAR
VERSION:2.0
PRODID:-//Squarespace Inc/Squarespace 6//v6//EN
BEGIN:VEVENT
UID:5a8c9ea724a6940155afd08d@squarespace.com
DTSTAMP:20180220T221848Z
DTSTART:20180701T123000Z
DTEND:20180701T133000Z
SUMMARY:Qld Plastic Bag Ban comes into place
END:VEVENT
END:VCALENDAR
