BEGIN:VCALENDAR
VERSION:2.0
PRODID:-//Squarespace Inc/Squarespace 6//v6//EN
BEGIN:VEVENT
UID:5afbb16588251b30fb62d68c@squarespace.com
DTSTAMP:20180516T042516Z
DTSTART:20180826T123000Z
DTEND:20180827T035900Z
SUMMARY:Bump to Beach
END:VEVENT
END:VCALENDAR
