BEGIN:VCALENDAR
VERSION:2.0
PRODID:-//Squarespace Inc/Squarespace 6//v6//EN
BEGIN:VEVENT
UID:5a8a5d13652deaeaab04220c@squarespace.com
DTSTAMP:20180219T101620Z
DTSTART:20180831T123000Z
DTEND:20180902T133000Z
SUMMARY:TARGA Great Barrier Reef
END:VEVENT
END:VCALENDAR
