BEGIN:VCALENDAR
VERSION:2.0
PRODID:-//Squarespace Inc/Squarespace 6//v6//EN
BEGIN:VEVENT
UID:5afbb3bf575d1f1ace2d7a13@squarespace.com
DTSTAMP:20180516T043224Z
DTSTART:20180902T103000Z
DTEND:20180910T023000Z
SUMMARY:Cycle QLD 2018 Adventure Tour
END:VEVENT
END:VCALENDAR
