BEGIN:VCALENDAR
VERSION:2.0
PRODID:-//Squarespace Inc/Squarespace 6//v6//EN
BEGIN:VEVENT
UID:5be0270d758d46ea7a44b252@squarespace.com
DTSTAMP:20190130T002145Z
DTSTART:20190603T123000Z
DTEND:20190603T133000Z
SUMMARY:Douglas Chamber Committee Meeting
END:VEVENT
END:VCALENDAR
