BEGIN:VCALENDAR
VERSION:2.0
PRODID:-//Squarespace Inc/Squarespace 6//v6//EN
BEGIN:VEVENT
UID:5c1c018bb8a0453083a8c0d8@squarespace.com
DTSTAMP:20190806T003718Z
DTSTART:20190812T123000Z
DTEND:20190812T133000Z
SUMMARY:Douglas Chamber Committee Meeting
END:VEVENT
END:VCALENDAR
