BEGIN:VCALENDAR
VERSION:2.0
PRODID:-//Squarespace Inc/Squarespace 6//v6//EN
BEGIN:VEVENT
UID:5c50ecdc70a6ad41a0236e78@squarespace.com
DTSTAMP:20190130T001810Z
DTSTART:20190204T123000Z
DTEND:20190204T133000Z
SUMMARY:Douglas Chamber Committee Meeting
END:VEVENT
END:VCALENDAR
