BEGIN:VCALENDAR
VERSION:2.0
PRODID:-//Squarespace Inc/Squarespace 6//v6//EN
BEGIN:VEVENT
UID:5be0271fcd836658b4d7f0ad@squarespace.com
DTSTAMP:20190130T001858Z
DTSTART:20190305T123000Z
DTEND:20190305T133000Z
SUMMARY:Douglas Chamber Committee Meeting
END:VEVENT
END:VCALENDAR
