BEGIN:VCALENDAR
VERSION:2.0
PRODID:-//Squarespace Inc/Squarespace 6//v6//EN
BEGIN:VEVENT
UID:5be026e1562fa7a3ca9bfecd@squarespace.com
DTSTAMP:20181105T111808Z
DTSTART:20181203T123000Z
DTEND:20181203T133000Z
SUMMARY:Douglas Chamber Committee Meeting
END:VEVENT
END:VCALENDAR
