BEGIN:VCALENDAR
VERSION:2.0
PRODID:-//Squarespace Inc/Squarespace 6//v6//EN
BEGIN:VEVENT
UID:5dc4ca996db86d2348b64f0a@squarespace.com
DTSTAMP:20191108T015602Z
DTSTART:20191109T000000Z
DTEND:20191109T020000Z
SUMMARY:✨#LightUpPort✨
END:VEVENT
END:VCALENDAR
