BEGIN:VCALENDAR
VERSION:2.0
PRODID:-//Squarespace Inc/Squarespace 6//v6//EN
BEGIN:VEVENT
UID:5c50ebb21ae6cf97d11d624d@squarespace.com
DTSTAMP:20190130T001458Z
DTSTART:20190205T123000Z
DTEND:20190206T045900Z
SUMMARY:Chinese New Year
END:VEVENT
END:VCALENDAR
