BEGIN:VCALENDAR
VERSION:2.0
PRODID:-//Squarespace Inc/Squarespace 6//v6//EN
BEGIN:VEVENT
UID:5c5a7a46f9619a83169ef563@squarespace.com
DTSTAMP:20190206T061147Z
DTSTART:20190314T113000Z
DTEND:20190314T133000Z
SUMMARY:Douglas Chamber Business Breakfast
END:VEVENT
END:VCALENDAR
