BEGIN:VCALENDAR
VERSION:2.0
PRODID:-//Squarespace Inc/Squarespace 6//v6//EN
BEGIN:VEVENT
UID:5c89d96253450a5b64531be1@squarespace.com
DTSTAMP:20190314T044450Z
DTSTART:20190515T150000Z
DTEND:20190515T180000Z
SUMMARY:Googlopoly
END:VEVENT
END:VCALENDAR
