BEGIN:VCALENDAR
VERSION:2.0
PRODID:-//Squarespace Inc/Squarespace 6//v6//EN
BEGIN:VEVENT
UID:5cf6417a6f054b000175f80f@squarespace.com
DTSTAMP:20190604T101741Z
DTSTART:20190609T093000Z
DTEND:20190609T213000Z
SUMMARY:Cairns IronMan
END:VEVENT
END:VCALENDAR
