BEGIN:VCALENDAR
VERSION:2.0
PRODID:-//Squarespace Inc/Squarespace 6//v6//EN
BEGIN:VEVENT
UID:5d0ff042247fa10001f8170c@squarespace.com
DTSTAMP:20190623T213555Z
DTSTART:20190709T130000Z
DTEND:20190709T160000Z
SUMMARY:Let's Explore ECommerce Workshop
END:VEVENT
END:VCALENDAR
