BEGIN:VCALENDAR
VERSION:2.0
PRODID:-//Squarespace Inc/Squarespace 6//v6//EN
BEGIN:VEVENT
UID:5d48cc0b73983800011c1a44@squarespace.com
DTSTAMP:20190806T004018Z
DTSTART:20190827T210000Z
DTEND:20190827T220000Z
SUMMARY:ATO Information Session
END:VEVENT
END:VCALENDAR
