BEGIN:VCALENDAR
VERSION:2.0
PRODID:-//Squarespace Inc/Squarespace 6//v6//EN
BEGIN:VEVENT
UID:5d48cc7a5c97220001bfe82f@squarespace.com
DTSTAMP:20190806T004141Z
DTSTART:20190905T210000Z
DTEND:20190905T220000Z
SUMMARY:ATO Record Keeping Session
END:VEVENT
END:VCALENDAR
